Workbook
Name Beg_Bal: #REF!
Name End_Bal: '[1]Tableau d''amortissement'!$I$19:$I$378
Name Extra_Pay: #REF!
Name Header_Row: ROW('[1]Tableau d''amortissement'!$18:$18)
Name Int: #REF!
Name Interest_Rate: '[1]Tableau d''amortissement'!$D$6
Name Last_Row: IF(Values_Entered,Header_Row+Number_of_Payments,Header_Row)
Name Loan_Amount: '[1]Tableau d''amortissement'!$D$5
Name Loan_Start: '[1]Tableau d''amortissement'!$D$9
Name Loan_Years: '[1]Tableau d''amortissement'!$D$7
Name Num_Pmt_Per_Year: #REF!
Name Number_of_Payments: MATCH(0.01,End_Bal,-1)+1
Name Pay_Num: #REF!
Name Princ: #REF!
Name Sched_Pay: #REF!
Name Scheduled_Extra_Payments: #REF!
Name Scheduled_Monthly_Payment: #REF!
Name Total_Pay: #REF!
Name Values_Entered: IF(Loan_Amount*Interest_Rate*Loan_Years*Loan_Start>0,1,0)

Sheet Chiffrage
B1: Tableau rentabilité de chantier
B2: Complétez les cellules bleues | H2: Pour déverrouiller ce document, rendez-vous dans le dernier onglet du classeur | R2: Pour déverrouiller ce document, rendez-vous dans le dernier onglet du classeur
B4: Chantier : | C4: Reprise murs maçonnerie maison intérieur et jardin
B5: Client : | C5: M. Julien Durand
B6: Coût horaire chargé : | C6: 36
B9: Etape du chantier | C9: Description | D9: Coût matière | F9: Coût autres éléments ou équipements | H9: Coût location matériel | J9: Nombre heures de travail (cumul) | L9: Coût main d'œuvre (automatique) | N9: Total coût | P9: Ecart coût total prévi. / réel | Q9: Montant HT facturé au client | R9: MARGE | T9: Remarques
D10: Prévi. | E10: Réel | F10: Prévi. | G10: Réel | H10: Prévi. | I10: Réel | J10: Prévi. | K10: Réel | L10: Prévi. | M10: Réel | N10: Prévi. | O10: Réel | R10: Prévi. | S10: Réelle
A11: 1. | B11: Dalle rez-de-chaussée | C11: Dalle 45 m² à couler | D11: 2000 | E11: 2145 | F11: 500 | G11: 325 | H11: 150 | I11: 189 | J11: 24 | K11: 22 | L11: =IF(J11*$C$6=0,"",J11*$C$6) -> 864 | M11: =IF(K11*$C$6=0,"",K11*$C$6) -> 792 | N11: =IF(SUM(D11,F11,H11,L11)=0,"",SUM(D11,F11,H11,L11)) -> 3514 | O11: =IF(SUM(E11,G11,I11,M11)=0,"",SUM(E11,G11,I11,M11)) -> 3451 | P11: =IF(ISERROR(O11-N11),0,IF(O11-N11=0,"",O11-N11)) -> -63 | Q11: 7000 | R11: =IF(ISERROR(Q11-N11),"",Q11-N11) -> 3486 | S11: =IF(ISERROR(Q11-O11),"",Q11-O11) -> 3549
A12: 2. | B12: Murs jardin | C12: Remonter 4 murs, faire un mur pierre sèche coté cour | D12: 2500 | E12: 800 | F12: 450 | G12: 513 | H12: 0 | I12: 355 | J12: 65 | K12: 117 | L12: =IF(J12*$C$6=0,"",J12*$C$6) -> 2340 | M12: =IF(K12*$C$6=0,"",K12*$C$6) -> 4212 | N12: =IF(SUM(D12,F12,H12,L12)=0,"",SUM(D12,F12,H12,L12)) -> 5290 | O12: =IF(SUM(E12,G12,I12,M12)=0,"",SUM(E12,G12,I12,M12)) -> 5880 | P12: =IF(ISERROR(O12-N12),0,IF(O12-N12=0,"",O12-N12)) -> 590 | Q12: 9900 | R12: =IF(ISERROR(Q12-N12),"",Q12-N12) -> 4610 | S12: =IF(ISERROR(Q12-O12),"",Q12-O12) -> 4020
A13: 3. | B13: Nettoyage et évacuation des déchets | J13: 4 | K13: 4.5 | L13: =IF(J13*$C$6=0,"",J13*$C$6) -> 144 | M13: =IF(K13*$C$6=0,"",K13*$C$6) -> 162 | N13: =IF(SUM(D13,F13,H13,L13)=0,"",SUM(D13,F13,H13,L13)) -> 144 | O13: =IF(SUM(E13,G13,I13,M13)=0,"",SUM(E13,G13,I13,M13)) -> 162 | P13: =IF(ISERROR(O13-N13),0,IF(O13-N13=0,"",O13-N13)) -> 18 | Q13: 0 | R13: =IF(ISERROR(Q13-N13),"",Q13-N13) -> -144 | S13: =IF(ISERROR(Q13-O13),"",Q13-O13) -> -162
A14: 4. | L14: =IF(J14*$C$6=0,"",J14*$C$6) | M14: =IF(K14*$C$6=0,"",K14*$C$6) | N14: =IF(SUM(D14,F14,H14,L14)=0,"",SUM(D14,F14,H14,L14)) | O14: =IF(SUM(E14,G14,I14,M14)=0,"",SUM(E14,G14,I14,M14)) | P14: =IF(ISERROR(O14-N14),0,IF(O14-N14=0,"",O14-N14)) -> 0 | R14: =IF(ISERROR(Q14-N14),"",Q14-N14) | S14: =IF(ISERROR(Q14-O14),"",Q14-O14)
A15: 5. | L15: =IF(J15*$C$6=0,"",J15*$C$6) | M15: =IF(K15*$C$6=0,"",K15*$C$6) | N15: =IF(SUM(D15,F15,H15,L15)=0,"",SUM(D15,F15,H15,L15)) | O15: =IF(SUM(E15,G15,I15,M15)=0,"",SUM(E15,G15,I15,M15)) | P15: =IF(ISERROR(O15-N15),0,IF(O15-N15=0,"",O15-N15)) -> 0 | R15: =IF(ISERROR(Q15-N15),"",Q15-N15) | S15: =IF(ISERROR(Q15-O15),"",Q15-O15)
A16: 6. | L16: =IF(J16*$C$6=0,"",J16*$C$6) | M16: =IF(K16*$C$6=0,"",K16*$C$6) | N16: =IF(SUM(D16,F16,H16,L16)=0,"",SUM(D16,F16,H16,L16)) | O16: =IF(SUM(E16,G16,I16,M16)=0,"",SUM(E16,G16,I16,M16)) | P16: =IF(ISERROR(O16-N16),0,IF(O16-N16=0,"",O16-N16)) -> 0 | R16: =IF(ISERROR(Q16-N16),"",Q16-N16) | S16: =IF(ISERROR(Q16-O16),"",Q16-O16)
A17: 7. | L17: =IF(J17*$C$6=0,"",J17*$C$6) | M17: =IF(K17*$C$6=0,"",K17*$C$6) | N17: =IF(SUM(D17,F17,H17,L17)=0,"",SUM(D17,F17,H17,L17)) | O17: =IF(SUM(E17,G17,I17,M17)=0,"",SUM(E17,G17,I17,M17)) | P17: =IF(ISERROR(O17-N17),0,IF(O17-N17=0,"",O17-N17)) -> 0 | R17: =IF(ISERROR(Q17-N17),"",Q17-N17) | S17: =IF(ISERROR(Q17-O17),"",Q17-O17)
A18: 8. | L18: =IF(J18*$C$6=0,"",J18*$C$6) | M18: =IF(K18*$C$6=0,"",K18*$C$6) | N18: =IF(SUM(D18,F18,H18,L18)=0,"",SUM(D18,F18,H18,L18)) | O18: =IF(SUM(E18,G18,I18,M18)=0,"",SUM(E18,G18,I18,M18)) | P18: =IF(ISERROR(O18-N18),0,IF(O18-N18=0,"",O18-N18)) -> 0 | R18: =IF(ISERROR(Q18-N18),"",Q18-N18) | S18: =IF(ISERROR(Q18-O18),"",Q18-O18)
A19: 9. | L19: =IF(J19*$C$6=0,"",J19*$C$6) | M19: =IF(K19*$C$6=0,"",K19*$C$6) | N19: =IF(SUM(D19,F19,H19,L19)=0,"",SUM(D19,F19,H19,L19)) | O19: =IF(SUM(E19,G19,I19,M19)=0,"",SUM(E19,G19,I19,M19)) | P19: =IF(ISERROR(O19-N19),0,IF(O19-N19=0,"",O19-N19)) -> 0 | R19: =IF(ISERROR(Q19-N19),"",Q19-N19) | S19: =IF(ISERROR(Q19-O19),"",Q19-O19)
A20: 10. | L20: =IF(J20*$C$6=0,"",J20*$C$6) | M20: =IF(K20*$C$6=0,"",K20*$C$6) | N20: =IF(SUM(D20,F20,H20,L20)=0,"",SUM(D20,F20,H20,L20)) | O20: =IF(SUM(E20,G20,I20,M20)=0,"",SUM(E20,G20,I20,M20)) | P20: =IF(ISERROR(O20-N20),0,IF(O20-N20=0,"",O20-N20)) -> 0 | R20: =IF(ISERROR(Q20-N20),"",Q20-N20) | S20: =IF(ISERROR(Q20-O20),"",Q20-O20)
B21: TOTAL | D21: =SUM(D11:D20) -> 4500 | E21: =SUM(E11:E20) -> 2945 | F21: =SUM(F11:F20) -> 950 | G21: =SUM(G11:G20) -> 838 | H21: =SUM(H11:H20) -> 150 | I21: =SUM(I11:I20) -> 544 | J21: =SUM(J11:J20) -> 93 | K21: =SUM(K11:K20) -> 143.5 | ... S21: =SUM(S11:S20) -> 7407

Sheet Récapitulatif
A1: Tableau de rentabilité et de suivi de chantier
A3: Onglet de consultation - non modifiable
A5: Etape du chantier | B5: Coût réel | C5: Montant facturé | D5: Ecart coût réel / montant facturé
A6: =Chiffrage!B11 -> Dalle rez-de-chaussée | B6: =Chiffrage!O11 -> 3451 | C6: =Chiffrage!Q11 -> 7000 | D6: =Chiffrage!S11 -> 3549
A7: =Chiffrage!B12 -> Murs jardin | B7: =Chiffrage!O12 -> 5880 | C7: =Chiffrage!Q12 -> 9900 | D7: =Chiffrage!S12 -> 4020
A8: =Chiffrage!B13 -> Nettoyage et évacuation des déchets | B8: =Chiffrage!O13 -> 162 | C8: =Chiffrage!Q13 -> 0 | D8: =Chiffrage!S13 -> -162
A9: =Chiffrage!B14 -> 0 | B9: =Chiffrage!O14 | C9: =Chiffrage!Q14 -> 0 | D9: =Chiffrage!S14
A10: =Chiffrage!B15 -> 0 | B10: =Chiffrage!O15 | C10: =Chiffrage!Q15 -> 0 | D10: =Chiffrage!S15
A11: =Chiffrage!B16 -> 0 | B11: =Chiffrage!O16 | C11: =Chiffrage!Q16 -> 0 | D11: =Chiffrage!S16
A12: =Chiffrage!B17 -> 0 | B12: =Chiffrage!O17 | C12: =Chiffrage!Q17 -> 0 | D12: =Chiffrage!S17
A13: =Chiffrage!B18 -> 0 | B13: =Chiffrage!O18 | C13: =Chiffrage!Q18 -> 0 | D13: =Chiffrage!S18
A14: =Chiffrage!B19 -> 0 | B14: =Chiffrage!O19 | C14: =Chiffrage!Q19 -> 0 | D14: =Chiffrage!S19
A15: =Chiffrage!B20 -> 0 | B15: =Chiffrage!O20 | C15: =Chiffrage!Q20 -> 0 | D15: =Chiffrage!S20
A16: TOTAL | B16: =SUM(B6:B15) -> 9493 | C16: =SUM(C6:C15) -> 16900 | D16: =SUM(D6:D15) -> 7407
A18: Pour déverrouiller ce document, rendez-vous dans le dernier onglet du classeur

Sheet Mot de passe
A7: Comment obtenir le mot de passe de ce document ?
B9: C'est simple, cliquez ici :
C10: https://www.business-plan-excel.fr/produit/mot-de-passe-tableau-rentabilite-chantier/ | I10: (ou recopiez le lien en cas de problème)
C13: Le mot de passe sera à entrer dans le menu Révision : "Ôter la protection de la feuille" ainsi que "Protéger le classeur"
A23: BpE documents est une entreprise française.
A24: contact@business-plan-excel.fr
A25: © BpE documents
